BEGIN:VCALENDAR
VERSION:2.0
PRODID:-// Wadsworth Community Hub//EN
BEGIN:VEVENT
UID:69e7454847243
DTSTAMP:20260421T053712
DTSTART:20260421T100000
DTEND:20260421T103000
SUMMARY:All Ages Story Time
DESCRIPTION:For you and your child of any age. Enjoy engaging books, snappy songs, and memorable fingerplays together.

There\'s no need to book your place for this event. Just meet us at Wadsworth Public Library.
LOCATION:Wadsworth Library - 132 Broad St. Wadsworth, OH 44281
END:VEVENT
END:VCALENDAR